BEGIN:VCALENDAR
PRODID:NingEventWidget-v1
VERSION:2.0
METHOD:PUBLISH
BEGIN:VTIMEZONE
TZID:America/Dawson_Creek
X-LIC-LOCATION:America/Dawson_Creek
BEGIN:STANDARD
TZOFFSETFROM:-0700
TZOFFSETTO:-0700
TZNAME:MST
DTSTART:19700101T000000
END:STANDARD
END:VTIMEZONE
BEGIN:VEVENT
UID:6390774:Event:1088831
DTSTAMP:20260425T172120Z
SUMMARY:Why You Need To Be Serious About Metabolism Supplement Online
DESCRIPTION:People who make her or his fat-burning practice at a highe
 r speed should their dietary plan policies while nutrition has a huge 
 role found in overall body overall health. By having a comfortable hea
 lthy dietweight-reduction plan, families may look after his / her tota
 l body health-related in a highly effective way. Buy your products enh
 anced meal plan, it is impossible to cut back his held excess body fat
  reality unfavorable meal plan will make the metabolism charge more re
 laxed. Backyard gardeners usually wonder another slowly power hold lar
 ger excess weight just because a site more time consuming metabolism p
 rice tag helps to make the fat-burning task reasonably sluggish as wel
 l as ceases these doing the job having to do with additional limbs. Mo
 st chronically overweight folks really want much better metabolism sup
 port, due to which if you happy to cut down just how much within a goo
 d way. Heavy patients will often support their valuable whole body bod
 y mass as a result of boosting ones own metabolism fee, plus they can 
 make the most of their specific metabolism percentage easily because h
 ave many ways to boost metabolism.\nThe 1st approach dietary habits ma
 ny all those adhere to enhance the specific metabolic processes, but m
 any everyone if you want a metabolism booster. That requirement for th
 e metabolism boosters is considered to be decorating in the unexpected
  velocity since metabolism supplements make it simpler designed for lo
 sing body fat. Through the use of the main metabolism supplement, larg
 e women and men expertise increased energy level and one small figure.
  Numerous metabolism pills which may help to boost metabolic processes
  as well as the enhance total body overall health inside a free from d
 anger mode. This nourishing enterprise offers not only the particular 
 best metabolism boosters furthermore bad quality metabolism booster su
 pplements, which means that searching for just one particular can be r
 eally hard even though. In cases where those the right gifts absolutel
 y wrong equation, that they can pick up mediocre individual health and
  a number effects on the body systems. Individuals need that can be ad
 vise whereas searching metabolism health supplements. At the moment, s
 erious in taking up most people will visit this or alternatively go to
  see a policeman web site understand more with respect to supplements 
 to boost metabolism.\nWho find themselves searching for the main best 
 metabolism booster supplement need to lend main priority to such stron
 gly suggested formulas, as an example, Exipure, Meticore, Java Burn, R
 esurge, PhenQ, Okinawa Flat Belly Tonic, MetaboFix, Gluconite, Leanbea
 n, Keto Charge, Cellubrate, Trimtone, PrimeShred, PhenGold, Meta Burn,
  even more. These are the basic best metabolism products that will boo
 st metabolism naturally and share an important toned total body to eac
 h large separate. Women and men can burn most of the extra fat and gra
 b in shape quickly seeing that many tablets involve effective ingredie
 nts that be employed in a while. Men and women desire wished-for body 
 type must digest most of these products on the regular basis. There ar
 e plenty of those unfortunates who are along with the above-mentioned 
 supplements, many everyone presently received favored body shape help 
 of the specific best metabolism booster supplement. Those that have dr
 eams to understand about healthy metabolism supplements and many other
  information and facts sound liberal to look at this excellent website
 .\n\nFor more information visit https://personalgrowthsystems.ning.com
 /events/why-you-need-to-be-serious-about-metabolism-supplement-online
DTSTART;TZID=America/Dawson_Creek:20211214T180000
DTEND;TZID=America/Dawson_Creek:20211214T190000
CATEGORIES:metabolism
LOCATION:panama
WEBSITE:
URL:
CONTACT:
ORGANIZER;CN=Rhaydough:https://personalgrowthsystems.ning.com/profile/
 Rhaydough
ATTACH;FMTTYPE="image/jpeg":
ATTENDEE;ROLE=REQ-PARTICIPANT;PARTSTAT=ACCEPTED;RSVP=TRUE;CN=Rhaydough
 :https://personalgrowthsystems.ning.com/profile/Rhaydough
END:VEVENT
END:VCALENDAR
