BEGIN:VCALENDAR
PRODID:NingEventWidget-v1
VERSION:2.0
METHOD:PUBLISH
BEGIN:VTIMEZONE
TZID:America/Dawson_Creek
X-LIC-LOCATION:America/Dawson_Creek
BEGIN:STANDARD
TZOFFSETFROM:-0700
TZOFFSETTO:-0700
TZNAME:MST
DTSTART:19700101T000000
END:STANDARD
END:VTIMEZONE
BEGIN:VEVENT
UID:6390774:Event:1094858
DTSTAMP:20260420T101922Z
SUMMARY:Why People Prefer To Use Wow Classic Tbc Gold?
DESCRIPTION:\nInside the world of warcraft game, gamers have many opti
 ons of servers that they can enjoy successfully, but the thrill of Wor
 ld of Warcraft: Burning Crusade Classic (WoW TBC Classic/WoW Classic T
 BC) is striking the roof in recent times. This valuable server consist
 s of greater content and interesting game play, due to which each onli
 ne gamer can feel amused by performing the game. A gaming lover can ex
 perience the online game properly by unlocking both the clones of char
 acters in the game. Every player gets fascinated by the awesome conten
 t of this particular online game, plus they also have the capacity to 
 accomplish a number of activities in the game. This amazing server has
  the most vital currency known as wow classic tbc gold that creates th
 e gaming much better in seconds. The tbc gold makes the raiding and le
 veling up less difficult for each and every video gaming hobbyist. The
  wow tbc gold is also essential to buy the ideal gear, enchantments, m
 ounts, potions, plus much more. Better click here or visit our wikiped
 ia reference to find out more about Tbc Gold.A majority of players des
 ire to have sufficient tbc classic gold to enjoy the game efficiently,
  plus they can obtain the gold through numerous approaches in the game
 , for instance, farming materials, grinding mobs, undertaking quests, 
 plus more. People who have sufficient time for the game can execute th
 ese strategies to obtain gold, although avid gamers who want gold inst
 antly should opt for online stores as they can use online stores to ac
 quire tbc classic gold. Getting wow tbc gold is fairly simpler on a fe
 w online platforms, although MMOGAH is deemed the most dependable plat
 form to receive gold simply because of its risk-free delivery methods.
  This valuable platform supplies the gold via multiple delivery method
 s, such as the mailbox, auction house, and face-to-face. If you want t
 o find out about wow classic tbc gold, then you could visit this great
  site.Each and every delivery method on this amazing platform is quite
  safeguarded to acquire gold, and each and every method needs a little
  effort to complete the delivery process. There isn’t any desire to 
 reside online within the game for those who desire to get gold through
  the mailbox method mainly because their team members only need the ch
 aracter name to supply the gold without hurdle. An additional pretty p
 rotected method referred to as auction house is implemented by several
  avid gamers, and they also have to pay a little extra fee to the staf
 f to receive gold through this method. Folks who choose the face-to-fa
 ce delivery strategy have to put loads of effort to receive gold effec
 tively. This specific platform provides delivery services speedier and
  securely, and its staff members provide tbc gold at a fair price. Whe
 n internet surfers make use of this site, they get more specifics abou
 t wow tbc gold.\n\nFor more information visit https://personalgrowthsy
 stems.ning.com/events/why-people-prefer-to-use-wow-classic-tbc-gold
DTSTART;TZID=America/Dawson_Creek:20211218T180000
DTEND;TZID=America/Dawson_Creek:20221218T190000
CATEGORIES:wow, classic, tbc, gold
LOCATION:Chinese
WEBSITE:
URL:
CONTACT:
ORGANIZER;CN=Hinaleryn:https://personalgrowthsystems.ning.com/profile/
 Hinaleryn
ATTACH;FMTTYPE="image/jpeg":
ATTENDEE;ROLE=REQ-PARTICIPANT;PARTSTAT=ACCEPTED;RSVP=TRUE;CN=Hinaleryn
 :https://personalgrowthsystems.ning.com/profile/Hinaleryn
END:VEVENT
END:VCALENDAR
