BEGIN:VCALENDAR
PRODID:NingEventWidget-v1
VERSION:2.0
METHOD:PUBLISH
BEGIN:VTIMEZONE
TZID:America/Dawson_Creek
X-LIC-LOCATION:America/Dawson_Creek
BEGIN:STANDARD
TZOFFSETFROM:-0700
TZOFFSETTO:-0700
TZNAME:MST
DTSTART:19700101T000000
END:STANDARD
END:VTIMEZONE
BEGIN:VEVENT
UID:6390774:Event:1109221
DTSTAMP:20260425T101334Z
SUMMARY:What Everyone is Saying About Best Cbd Oil Supplements Is Dead
  Wrong And Why
DESCRIPTION:Very easily challenging for friends to stay in without the
  need of feeding on the optimal amount to use regarding CBD dependably
 , including a amount of people might be passing along desire to additi
 onal dosage connected with distinctive kinds CBD, for instance, CBD oi
 l, skin creams, edibles, and even more. The following doesn’t case m
 en and women are actually using different-different many varieties of 
 CBD given that every last CBD design is definitely good for most women
  and men, however, the key main thing is this anybody is seeking super
 ior quality CBD on their programs to get the the greatest results. The
 re are plenty of potential benefits of CBD, equally as consumers usual
 ly stay settled continuously by using CBD, along with CBD additionally
  supplements to assist you to minimize anxiety and depression. Most fo
 lk are typically creating CBD products and solutions to reduce their i
 nflammation and pain merely because CBD is equipped with anti-inflamma
 tory or other beneficial properties. Several of health specialists men
 tioned that CBD is usually therapeutic for families to have more desir
 able snooze through the night.\n A variety of CBD equipment feature di
 verse CBD doses, and everyone gives you different-different selections
  of doses and things. CBD oil is one of traditional CBD variety that o
 f us will want to absorb caused by unique very good reasons. The expla
 nation is usually that cbd oils are simple put in a request combined w
 ith concentrate on the body faster than other ones. Folks could also e
 nhance their thought process health and whole body wellbeing throughou
 t cbd oils. A result of the a lot more demand of CBD oil, online scams
  experience high available. A lot organizations are delivering lousy s
 uperior cbd oils that will don’t attribute on the human body, along 
 with number of individuals seem to be bored with applying cbd oils in 
 several CBD merchants. Many people may be difficult a new best cbd oil
  as they quite simply would prefer the best results without having a n
 egative effects. When necessary, concerned people will click on this l
 ink as well as pay a visit to much of our recognized website to learn 
 about to the best cbd oil of 2021 .\n All of the best cbd oil supplem
 ents make it less difficult with regards to consumers to obtain a heal
 thier life and put up safeguard from a variety of problems, just like 
 panic, depression symptoms, obese, aches, diabetes, and even more. Sim
 ply because of a wide range of companies ways, people searching out th
 e best cbd oil brands as they definitely wish to have suitable CBD wit
 h the objects. Most people should certainly acquire most of these best
  cbd oil companies, here is an example, CBDPure, Charlotte’s Web, Po
 pulum, Joy Organics, XWERKS CBD oil, Medterra, Five CBD, Rya Organics,
  Aspen Green, Receptra Naturals, RE Botanicals, CBD American Shaman, p
 lus more. Folks can purchase the top cbd oil supplements simply out th
 ere top cbd oil companies from a very lifelike fee. Just about anyone 
 can think about this website to seize whole entire insights regarding 
 the best cbd oil of 2021.\n\nFor more information visit https://person
 algrowthsystems.ning.com/events/what-everyone-is-saying-about-best-cbd
 -oil-supplements-is-dead
DTSTART;TZID=America/Dawson_Creek:20220106T180000
DTEND;TZID=America/Dawson_Creek:20221012T190000
CATEGORIES:best, cbd, oil, companies
LOCATION:usa
WEBSITE:
URL:
CONTACT:
ORGANIZER;CN=Rhoyertor:https://personalgrowthsystems.ning.com/profile/
 Rhoyertor
ATTACH;FMTTYPE="image/jpeg":
ATTENDEE;ROLE=REQ-PARTICIPANT;PARTSTAT=ACCEPTED;RSVP=TRUE;CN=Rhoyertor
 :https://personalgrowthsystems.ning.com/profile/Rhoyertor
END:VEVENT
END:VCALENDAR
