BEGIN:VCALENDAR
PRODID:NingEventWidget-v1
VERSION:2.0
METHOD:PUBLISH
BEGIN:VTIMEZONE
TZID:America/Dawson_Creek
X-LIC-LOCATION:America/Dawson_Creek
BEGIN:STANDARD
TZOFFSETFROM:-0700
TZOFFSETTO:-0700
TZNAME:MST
DTSTART:19700101T000000
END:STANDARD
END:VTIMEZONE
BEGIN:VEVENT
UID:6390774:Event:1280634
DTSTAMP:20260419T062633Z
SUMMARY:Wat iedereen zegt over Apply homecare
DESCRIPTION:\n\nHoe pas je verpleegkundige zorg aan bij tijdelijke ter
 ugval? Zit je tijdelijk in een dipje en heb je extra hulp nodig met je
  gezondheid? Hoe pas je verpleegkundige zorg aan bij tijdelijke terugv
 al draait helemaal rond persoonlijke aanpak, snel schakelen en aangepa
 ste ondersteuning in je eigen omgeving.â€‹ Je krijgt niet alleen basis
 zorg, maar ook begeleiding bij medicatie, wondzorg, hygiÃ«nische zorge
 n en overleg met je arts.â€‹ Een goede verpleegkundige voelt meteen aa
 n wanneer je situatie verandert.â€‹ Ze luisteren naar je, zien de sign
 alen en stemmen hun zorg telkens opnieuw af op wat jij nodig hebt.â€‹ 
 Zo blijven je dagelijkse activiteiten vlot verlopen en blijf je zoveel
  mogelijk zelfstandig, ook als het eens wat minder gaat.â€‹ Met flexib
 ele thuiszorg kan je tijdelijke moeilijkheden makkelijker overbruggen.
 â€‹ Want bij een terugval telt het dat je vertrouwen en deskundigheid 
 krijgt, meteen bij je thuis in de regio boerhaavelaan 32 haarlem en om
 streken.â€‹ Oplossingen op maat zorgen dat je niet alleen herstelt, ma
 ar je sterker voelt in je eigen omgeving.â€‹ \nWat is een tijdelijke t
 erugval in de thuiszorg?\nEen tijdelijke terugval in de thuiszorg bete
 kent dat jij of jouw naaste plotseling minder goed functioneert dan ge
 woonlijk.â€‹ Dat kan door een val, infectie, operaties, verslechtering
  van een chronische aandoening of plots psychisch lijden.â€‹ Organisat
 ies als het RIZIV en het Vlaams Agentschap Zorg en Gezondheid benadruk
 ken het belang van snelle signalering.â€‹ In Haarlem en omgeving, waar
  Zorgpilaar24 actief is, komt tijdelijke terugval bij veel cliÃ«nten v
 oor.â€‹ Vaak is het een keerpunt dat vraagt om flexibel schakelen en v
 lotte afstemming tussen mantelzorger, huisarts, thuisverpleging en med
 ische technologie.â€‹\n\nFysieke achteruitgang: Moeilijker stappen, pl
 ots gebruik van hulpmiddelen zoals rollator of tillift.â€‹\nPsychisch 
 terugvallen: Meer verwardheid, vergeetachtigheid of depressieve gevoel
 ens waardoor dagelijkse zorg moeilijker wordt.â€‹\nSociaal-maatschappe
 lijke situatie: Door eenzaamheid, verandering in thuissituatie of verl
 ies aan zelfredzaamheid tijdelijk zorgbehoevend worden.â€‹\nChronische
  aandoeningen: Toename symptomen bij COPD, diabetes, hartfalen of MS.â
 €‹\n\nHoe stel je de zorg aan bij tijdelijke terugval?\nDe aangepaste 
 verpleegkundige zorg start altijd met een grondige observatie en evalu
 atie.â€‹ Hiervoor werken wij bij Zorgpilaar24 met zorgdossiers en zorg
 plannen die meteen via digitale oplossingen als Nedap en de enovation 
 point platform te raadplegen zijn.â€‹ Evalueren met assessment tools z
 oals de Zorgzwaarte-Inventarisatie (ZZI) zorgt voor objectieve maatvoe
 ring.â€‹ Wij betrekken de huisarts, eventueel de transferverpleegkundi
 ge, ergotherapeut of fysiotherapeut om tot een multidisciplinair overl
 eg te komen.â€‹\n\nSnelle signalering: Letten op vitale functies zoals
  hartslag, ademhaling en saturatie, dagelijks meten Ã©n rapporteren.â€
 ‹\nBehoefteanalyse: Nieuwe zorgvraag inschatten samen met de cliÃ«nt e
 n mantelzorgers.â€‹\nSnel schakelen: Extra verzorging of verpleging in
 schakelen indien nodig, bijvoorbeeld wondzorg, sondevoeding toedienen 
 of medicatie klaarzetten.â€‹\nDossier direct bijwerken: Elke afwijking
  nauwkeurig noteren voor het hele team, ondersteund door digitale tool
 s.â€‹\n\n\n\n\n\nFor more information visit https://personalgrowthsyst
 ems.ning.com/events/wat-iedereen-zegt-over-apply-homecare
DTSTART;TZID=America/Dawson_Creek:20251224T180000
DTEND;TZID=America/Dawson_Creek:20261022T190000
CATEGORIES:thuiszorg, vacatures, amsterdam
LOCATION:netherland
WEBSITE:https://zorgpilaar24.nl
URL:https://zorgpilaar24.nl
CONTACT:
ORGANIZER;CN="Sleegem Sleegem":https://personalgrowthsystems.ning.com/
 profile/SleegemSleegem
ATTACH;FMTTYPE="image/jpeg":
ATTENDEE;ROLE=REQ-PARTICIPANT;PARTSTAT=ACCEPTED;RSVP=TRUE;CN="Sleegem 
 Sleegem":https://personalgrowthsystems.ning.com/profile/SleegemSleegem
END:VEVENT
END:VCALENDAR
