BEGIN:VCALENDAR
PRODID:NingEventWidget-v1
VERSION:2.0
METHOD:PUBLISH
BEGIN:VTIMEZONE
TZID:America/Dawson_Creek
X-LIC-LOCATION:America/Dawson_Creek
BEGIN:STANDARD
TZOFFSETFROM:-0700
TZOFFSETTO:-0700
TZNAME:MST
DTSTART:19700101T000000
END:STANDARD
END:VTIMEZONE
BEGIN:VEVENT
UID:6390774:Event:971207
DTSTAMP:20260421T152217Z
SUMMARY:Some Of The Most Vital Concepts About ดูซีรี่ย
 ์เกาหลี8
DESCRIPTION:As per latest report, making use of online was boosted fro
 m this widespread point in time. The majority of citizens pay their sp
 ecific overall spare time on the internet for you to do a variety of h
 obbies to take a seat throughout their homes. The first undertaking th
 ey begin to love to do is simply observing movies together with web se
 ries via the internet. There are numerous movies together with web ser
 ies available in the online world which many all those love to watch i
 n his or her time. Movies in addition to web series are generally desi
 rable to most users while those two things are rich in awesome stimula
 tion as well as supply a perfect amount enjoyment. There's lots of fol
 ks who largely watch series with their free time merely because series
  are a lot easier appealing instead of movies, not to mention series g
 enerate enthusiasm in the those people. All those can compare an endle
 ss number of web series all over the net they will watch, as one examp
 le, horror, action, romance, history, and others.\nThere are many thos
 e who watch korean series to have their unique amusement more effectiv
 ely. A few Korean series involves countless numbers of episodes, and a
 ny one episode is made of original and interesting content which unfor
 tunately pull in a number of people expertly. In that widespread perio
 d, simple fact is that fastest way for everybody to acquire wining and
  dining by sitting in your home. There's a lot of types accessible tha
 t supply quite a few Korean series, nevertheless, not all of the tools
  give most up to date series. Each person would rather watch the hotte
 st series. Various codecs allow the recent series unfortunately desire
  a request that only a lot of folks meet the expense of. The general p
 ublic are planning to watch web series without any monthly, to ensure 
 that they are checking out the world wide web for the greatest website
 . In contrast to other types of podiums, TV Series Club is just about 
 the highly regarded foundation that one can take advantage of devoid o
 f filter to actually ดูซีรี่ย์เกาหลี ใ
 หม่ๆ. When required, inquisitive most people may easily simply
  click here or perhaps take a look at our personal elegant how does a 
 person gain knowledge of close to watch series.\nIt happens to be one 
 of the greatest towers to help you if you want to watch series without
  the need for membership. By means of this particular framework, it's 
 possible to watch modern series with virtually no obstacles. The idea 
 principle delivers Korean series, western series, Chinese series, Thai
  series, Japanese series, etc .. Quite a vast number of series entirel
 y on that base that you could quickly watch inside the pleasurable. On
 e could very well watch series located in high-quality video, which me
 ans that now you may utilize the series inside an effective ways. Wome
 n and men can ever choose this specific substructure ever before in or
 der to watch korean series, additionally they can potentially effectiv
 ely locate their most favorite series just by searching your name on t
 hat foundation. You may watch most episodes for the series with very l
 ittle obstacle here. Healthier would be to click to read more or perha
 ps head to my conventional webpage to uncover more relating to watch k
 orean series.\n\nFor more information visit https://personalgrowthsyst
 ems.ning.com/events/some-of-the-most-vital-concepts-about-8
DTSTART;TZID=America/Dawson_Creek:20210607T180000
DTEND;TZID=America/Dawson_Creek:20210607T190000
CATEGORIES:"ดูซีรี่ย์เกาหลี"
LOCATION:panama
WEBSITE:
URL:
CONTACT:
ORGANIZER;CN=Radechque:https://personalgrowthsystems.ning.com/profile/
 Radechque
ATTACH;FMTTYPE="image/jpeg":
ATTENDEE;ROLE=REQ-PARTICIPANT;PARTSTAT=ACCEPTED;RSVP=TRUE;CN=Radechque
 :https://personalgrowthsystems.ning.com/profile/Radechque
END:VEVENT
END:VCALENDAR
