BEGIN:VCALENDAR
PRODID:NingEventWidget-v1
VERSION:2.0
METHOD:PUBLISH
BEGIN:VTIMEZONE
TZID:America/Dawson_Creek
X-LIC-LOCATION:America/Dawson_Creek
BEGIN:STANDARD
TZOFFSETFROM:-0700
TZOFFSETTO:-0700
TZNAME:MST
DTSTART:19700101T000000
END:STANDARD
END:VTIMEZONE
BEGIN:VEVENT
UID:6390774:Event:811990
DTSTAMP:20260425T203456Z
SUMMARY:New Article Reveals importance of Wow Gold
DESCRIPTION:\nOff-line video games were played by the people in past t
 imes, however today, individuals enjoy playing online games basically 
 because they experience far better graphic plus quality of sound. As c
 ompared with offline games, folks can have much better gameplay in gam
 es online. There are many folks who enjoy several types of games onlin
 e, but the world of warcraft is just one game that is still getting re
 cognition. The world of warcraft is really a massively multiplayer onl
 ine role-playing game that is also deemed as wow in short, and this ga
 me was developed by Blizzard entertainment in 2004. This online game h
 as a different group of followers, plus it consists of eight diverse e
 xpansions, although the battle of Azeroth is a pretty popular expansio
 n. A gamer can engage in many activities by managing a character, for 
 instance, combating with creatures, investigate landscapes, as well as
  connect with NPCs. There're two servers in the game, such as RP and n
 ormal, and avid gamers need to pick one to try out the video game prop
 erly. Click here to get more information about wow gold. In fact, the
 re are several weapons in the video game that one can obtain in the ga
 me to fight with enemies, and there is a currency within the game call
 ed wow gold. It's the only currency in the game that helps the gamers 
 during gameplay, and they can get various benefits with the assistance
  of this unique gold. The wow gold aids the gamers to acquire various 
 items in the game, including, high-level armor, new reagent, plus much
  more. To receive wow gold in the game, game enthusiasts can entire ta
 sks, defeat monsters, as well as jewel crafting. All of the strategies
  are extremely time-consuming for the gamers. At present anyone can ma
 ke use of the MMOGAH site to get the wow gold instantly, and it is amo
 ng the dependable web sites. Folks with expectations to learn much mor
 e about the wow gold as well as other details can seem liberated to ta
 ke a look at this website.\n\n\n\n\n As compared to other sites, you c
 an acquire wow gold at a very affordable price with the help of this w
 ebsite, and you will obtain excellent services on this web site. There
  are lots of highly skilled staff members included in the MMOGAH game 
 store that provide the gold quickly simply because they take advantage
  of quick and protected shipping methods. They mostly utilize face to 
 face method plus auction house methods to deliver the gold efficiently
 , and you could utilize debit cards, credit cards, along with other se
 cure transaction choices on this website to pay the money securely. Pa
 rticipants also can verify the testimonials on this site, and players 
 also grab many special discounts on this site. If you visit this fabul
 ous website, you'll receive more info relating to the wow gold.\n\n\n\
 nFor more information visit https://personalgrowthsystems.ning.com/eve
 nts/new-article-reveals-importance-of-wow-gold
DTSTART;TZID=America/Dawson_Creek:20200914T180000
DTEND;TZID=America/Dawson_Creek:20200914T190000
CATEGORIES:wow, gold
LOCATION:albany
WEBSITE:
URL:
CONTACT:0456456456
ORGANIZER;CN=Cheburrod:https://personalgrowthsystems.ning.com/profile/
 Cheburrod
ATTACH;FMTTYPE="image/jpeg":
ATTENDEE;ROLE=REQ-PARTICIPANT;PARTSTAT=ACCEPTED;RSVP=TRUE;CN=Cheburrod
 :https://personalgrowthsystems.ning.com/profile/Cheburrod
END:VEVENT
END:VCALENDAR
