BEGIN:VCALENDAR
PRODID:NingEventWidget-v1
VERSION:2.0
METHOD:PUBLISH
BEGIN:VTIMEZONE
TZID:America/Dawson_Creek
X-LIC-LOCATION:America/Dawson_Creek
BEGIN:STANDARD
TZOFFSETFROM:-0700
TZOFFSETTO:-0700
TZNAME:MST
DTSTART:19700101T000000
END:STANDARD
END:VTIMEZONE
BEGIN:VEVENT
UID:6390774:Event:1259169
DTSTAMP:20260420T123639Z
SUMMARY:Link Livechat Joker123 Motobola – Understand The Core Concep
 ts Now!
DESCRIPTION:Joker123 gaming terpercaya lets players with a choice of e
 ngaging games. Their friendly website that offers 24/7 customer servic
 e and mobile-friendliness and also an array of payment methods that su
 pport mobiles. and offers appealing jackpots and high rates of payout 
 that makes this a good option for those unable to physically visit cas
 inos.\nThe process of registering on Joker123 is the initial stage tow
 ards joining our casino games community. All you need is basic informa
 tion about you like email address as well as password. After completin
 g your registration the next step is to get started playing the games 
 you like best - that includes slot machines as well as fishing games t
 o arcade games that have possible huge jackpots worth thousands of dol
 lars!\nAnother method for earning some money at joker123 is joining re
 gularly in giveaways as well as tournaments. It's an the possibility o
 f increasing your wins while getting the most of the time you spend on
  the site. The events you participate in can serve as practice session
 s, but without real deposits; plus they offer you the chance to sharpe
 n your knowledge before investing real funds! Additionally, establishi
 ng a gambling budget and sticking to it are other recommended ways to 
 go about it.\nRegistering with joker123 requires access to both the in
 ternet and computer. Once registered, you'll receive an identification
  number and password that you can use to access the account. There you
  can start playing games. You can also win prizes, such for gifts, cas
 h, or even cars! To get the maximum pleasure from joker123 take the ti
 me to review each game's rules and regulations prior to putting money 
 in - so that you can avoid future challenges! Also review their privac
 y policy prior to sharing any personal data - your protection as well 
 as the site from third people's misuse of your personal information. F
 or those who wish to learn all the details about link livechat joker12
 3 motobola and other specifics can choose to go here.\nJoker123 gaming
  terpercaya provides you access to many casinos from the comfort withi
 n your house, giving you the opportunity to play without leaving the c
 omforts of your chair. The intuitive interface allows for effortless g
 ameplay with options designed specifically to make it easy for players
  of various kinds - you can deposit and withdraw funds with confidence
  at any time regardless of the time, provided that there is reliable i
 nternet connectivity. Additionally, responsible gaming must always be 
 observed prior to making bets - for example, creating a budget and not
  trying for a way to recover losses; stopping for breaks regularly fro
 m gaming should also be regularly practised.\nFor your personal benefi
 t and in order to sign up with your account, first complete the requir
 ed personal details, like your name, email address, and so on. After d
 oing this you'll receive an confirmation email to come to your email a
 ddress, which must then be verified before your login is allowed to be
 gin. Once the account is verified, you can begin playing your favorite
  games with real cash! Those that need to comprehend cara menang main 
 joker123, the site is for them.\nJoker123 gaming terpercaya provides l
 ive chat service, which can be a valuable feature for anyone who has a
 ny queries or issues with their game experience. In addition, its comp
 atibility with almost all mobile devices permits you to play on both p
 hone and tablet in one go.\n\nFor more information visit https://perso
 nalgrowthsystems.ning.com/events/link-livechat-joker123-motobola-under
 stand-the-core-concepts-now
DTSTART;TZID=America/Dawson_Creek:20240813T180000
DTEND;TZID=America/Dawson_Creek:20241121T190000
CATEGORIES:game
LOCATION:Indonesia
WEBSITE:https://thankyoubasedball.com/
URL:https://thankyoubasedball.com/
CONTACT:
ORGANIZER;CN="Sleegem Sleegem":https://personalgrowthsystems.ning.com/
 profile/SleegemSleegem
ATTACH;FMTTYPE="image/jpeg":https://storage.ning.com/topology/rest/1.0
 /file/get/12798235876?profile=original
ATTENDEE;ROLE=REQ-PARTICIPANT;PARTSTAT=ACCEPTED;RSVP=TRUE;CN="Sleegem 
 Sleegem":https://personalgrowthsystems.ning.com/profile/SleegemSleegem
END:VEVENT
END:VCALENDAR
