BEGIN:VCALENDAR
PRODID:NingEventWidget-v1
VERSION:2.0
METHOD:PUBLISH
BEGIN:VTIMEZONE
TZID:America/Dawson_Creek
X-LIC-LOCATION:America/Dawson_Creek
BEGIN:STANDARD
TZOFFSETFROM:-0700
TZOFFSETTO:-0700
TZNAME:MST
DTSTART:19700101T000000
END:STANDARD
END:VTIMEZONE
BEGIN:VEVENT
UID:6390774:Event:1244863
DTSTAMP:20260419T115956Z
SUMMARY:Learn The Most Vital Aspect About SEO Consultant Kerala
DESCRIPTION:\nNavigating Success: The Role of an SEO Consultant Kerala
 \nIn Kerala's dynamic digital landscape, the significance of an SEO co
 nsultant cannot be overstated. These professionals serve as navigators
  in the complex world of search engine optimization, providing invalua
 ble guidance tailored to the unique market of Kerala.\n\n1. Strategic 
 Guidance and Expertise: SEO consultants Kerala bring a wealth of strat
 egic guidance and expertise. They possess in-depth knowledge of search
  engine algorithms, digital marketing strategies, and a profound under
 standing of the local market dynamics.\n\n2. Customized Strategies for
  Kerala's Market: What distinguishes SEO consultants is their ability 
 to craft strategies perfectly aligned with Kerala's diverse market lan
 dscape. They comprehend regional preferences, cultural nuances, and in
 dustry-specific needs, tailoring strategies that resonate effectively.
 \n\n3. Objective Analysis and Recommendations: Consultants offer objec
 tive analysis and recommendations. Through thorough assessments, they 
 provide insights into a business’s online presence, offering actiona
 ble strategies to improve visibility and engagement.\n\n4. Collaborati
 ve Approach and Client Education: A key trait of SEO consultants is th
 eir collaborative approach. They engage clients in the optimization pr
 ocess, educating them about the strategies implemented and the rationa
 le behind them.\n\n5. Adaptability and Industry Trends Awareness: Cons
 ultants adapt to and embrace the evolving industry trends. They stay u
 pdated on algorithm changes, technological advancements, and emerging 
 trends, ensuring businesses remain competitive in Kerala's digital spa
 ce.\n\n6. Ethical SEO Practices and Credibility: Maintaining ethical p
 ractices is a cornerstone of SEO consultants in Kerala. Their dedicati
 on to white-hat techniques ensures sustainable growth for businesses a
 nd cultivates trust and credibility among clients.\n\n7. Continuous Im
 provement and Professional Development: Top SEO consultants understand
  the importance of continual learning. They dedicate themselves to sta
 ying updated on new trends, algorithm changes, and industry best pract
 ices to provide cutting-edge services.\n\nConclusion: SEO consultants 
 in Kerala play an instrumental role in guiding businesses towards digi
 tal success. Their expertise, tailored strategies, client education, e
 thical practices, and continual learning contribute significantly to b
 olstering businesses' online presence in Kerala’s ever-evolving digi
 tal sphere.\n\n\n\nFor more information visit https://personalgrowthsy
 stems.ning.com/events/learn-the-most-vital-aspect-about-seo-consultant
 -kerala
DTSTART;TZID=America/Dawson_Creek:20231111T180000
DTEND;TZID=America/Dawson_Creek:20231111T190000
CATEGORIES:seo, experts, in, kerala
LOCATION:Kerala
WEBSITE:
URL:
CONTACT:
ORGANIZER;CN=sargunjha:https://personalgrowthsystems.ning.com/profile/
 sargunjha
ATTACH;FMTTYPE="image/jpeg":
ATTENDEE;ROLE=REQ-PARTICIPANT;PARTSTAT=ACCEPTED;RSVP=TRUE;CN=sargunjha
 :https://personalgrowthsystems.ning.com/profile/sargunjha
END:VEVENT
END:VCALENDAR
