BEGIN:VCALENDAR
PRODID:NingEventWidget-v1
VERSION:2.0
METHOD:PUBLISH
BEGIN:VTIMEZONE
TZID:America/Dawson_Creek
X-LIC-LOCATION:America/Dawson_Creek
BEGIN:STANDARD
TZOFFSETFROM:-0700
TZOFFSETTO:-0700
TZNAME:MST
DTSTART:19700101T000000
END:STANDARD
END:VTIMEZONE
BEGIN:VEVENT
UID:6390774:Event:1169037
DTSTAMP:20260425T070420Z
SUMMARY:Learn Core Concepts About The Best Male Enhancement Pills
DESCRIPTION:A huge number of the male is worried about his or her sexu
 al problems, want erection difficulties, cut down sex drive, less expe
 nsive perseverance, and better, supplying individuals effort include t
 he male’s entire body there isn't any final years. It would be relat
 ively confusable to get men to own making love obstacles later, nevert
 heless its genuine that get older is considered the most things that c
 ause terrible sexual prowess. Final years visits testosterone constitu
 tion in your body which usually translates to deficient efficiency aro
 und the room. Much of the men're besides that dealing with deficient c
 irculation of blood for their physiques, with the result that their ow
 n health would not grow up effectively. Blokes who have got poor the c
 irculation of blood and reduced testosterone amounts can not genuinely
  feel a new expansion from the dimensions of an individual's male orga
 n, and they furthermore are unable to grab met up with with regards to
  small in size penis size or making love concerns. Any kind of substan
 dard love lives turns into the cause to a unfit marriage within the ro
 om. It's going to much better to fortify marriages due to accomplishin
 g top in bed, however , adult males should have much better testostero
 ne volumes and so larger blood flow to carry out his / her full capabi
 lities. To elevate testosterone growth, adult males have several men's
  sexual performance products inside of the health contemporary culture
 . There are many guys that are exhausted by installing men's sexual he
 alth products and services while they don’t attain top good results 
 as soon as having various sorts of male enhancement supplements. A sui
 table male enhancement increase recently will work whenever the bolste
 r is made up of countless male enhancement pills that work that will g
 et better testosterone certifications together with blood flow in your
  body. Many guys are attempting to get the best male enhancement pills
  as the best male enhancement pills grow sex-related everything within
  efficient manner. Include those with targets to find out regarding re
 view of review of best male enhancement pills for some other informati
 on and facts seems liberal to pay attention to this web page. You will
  find all-natural areas that happen to be involved in the best male pe
 rformance enhancers, particularly, Horny Goat Weed, Red Korean Ginseng
 , Maca Root, Saw Palmetto, Tribulus Terrestris, and Zinc, and therefor
 e all men gain greater testosterone level making use of help of these 
 elements. If the detail is true of all of the best male enhancement su
 pplements, Performer 8, VigRX Plus, Prime Male, Male Extra, Stone Forc
 e, ExtenZe, Prosolution Plus, Semenax, Savage Grow Plus, Hyper Male Fo
 rce, and Male Dominator are a few of standard name that possess above-
 mentioned aspects and various other right and also normal materials. S
 everal heallth supplements assist in improving the main this crippling
  press in fellas within the beneficial method. Every last douleur make
 s loads of benefits because of using these particular formulation, inc
 luding, long-lasting lovemaking, even bigger organ, exceptional electr
 ical energy, more extensive semen synthesis, and many more. Men get a 
 stronger body shape and a much healthier existence along with best mal
 e enhancers. Stronger shall be to just click here and / or view a bona
  fide webpage for more around the male enhancement 2022.\n\n\n\nFor mo
 re information visit https://personalgrowthsystems.ning.com/events/lea
 rn-core-concepts-about-the-best-male-enhancement-pills
DTSTART;TZID=America/Dawson_Creek:20220414T180000
DTEND;TZID=America/Dawson_Creek:20220816T190000
CATEGORIES:male, enhancement
LOCATION:USA
WEBSITE:https://www.vashonbeachcomber.com/national-marketplace/best-ma
 le-enhancement-pills-of-2022-most-effective-male-enhancers-to-buy/
URL:https://www.vashonbeachcomber.com/national-marketplace/best-male-e
 nhancement-pills-of-2022-most-effective-male-enhancers-to-buy/
CONTACT:
ORGANIZER;CN=Morormton:https://personalgrowthsystems.ning.com/profile/
 Morormton
ATTACH;FMTTYPE="image/jpeg":https://storage.ning.com/topology/rest/1.0
 /file/get/10387467079?profile=original
ATTENDEE;ROLE=REQ-PARTICIPANT;PARTSTAT=ACCEPTED;RSVP=TRUE;CN=Morormton
 :https://personalgrowthsystems.ning.com/profile/Morormton
END:VEVENT
END:VCALENDAR
