BEGIN:VCALENDAR
PRODID:NingEventWidget-v1
VERSION:2.0
METHOD:PUBLISH
BEGIN:VTIMEZONE
TZID:America/Dawson_Creek
X-LIC-LOCATION:America/Dawson_Creek
BEGIN:STANDARD
TZOFFSETFROM:-0700
TZOFFSETTO:-0700
TZNAME:MST
DTSTART:19700101T000000
END:STANDARD
END:VTIMEZONE
BEGIN:VEVENT
UID:6390774:Event:1144159
DTSTAMP:20260425T133651Z
SUMMARY:Importance Of Penis Extenders Results
DESCRIPTION:\nImmediately, the majority males arenâ€™t enthusiastic ab
 out his / her pennis different sizes because penus varieties arenâ€™t 
 old enough to fulfill themselves. There are a number all men may very 
 well rounded a good male enhancement and are also hampered by all sort
 s of love rrssues, similar to issues, lightweight phallus, harmful int
 imacy overall performance, and better. Small organ size often is the b
 est problems of many guys, which means that some people still purpose 
 more suitable within mattress room. In step with exploration, most the
 se are undergoing Peyronieâ€™s disease that they look unpleasant impot
 ence and furthermore previously erection. All men that tend to have ho
 ok male organ need strengthen their pennis varieties in the little whi
 le. There are lots of sexually active men so, who take into account su
 rgical treatments to increase their unique size, unfortunately a surgi
 cal operation is definitely overpriced choice for a bit of persons. Wi
 th the assistance of surgical procedure, guys can get a wider tool siz
 e, though the phallus size doesnâ€™t stay the same for ever. It is vie
 wed the fact that grownup who also choose from surgery practical knowl
 edge some people side-effects on your figures. \n\nThere are thousands
  of douleur who wish a wonderful means to fix increase their pennis si
 ze, and also has change into more straightforward for them with your p
 enis extender. The penis extender serves as a device that will enhance
  shape of some male member and additionally improve the circumference 
 and length of the penis in the near future. The sector is considered t
 o be rich in a large number of penis extenders that promise to provide
  needed benefits promptly, except just one particular penis stretcher 
 will supply instantaneous ultimate results. There are various penis ex
 tender reviews extender devices that offers more effectively benefits 
 but will also make a couple of undesirable side effects. A good number
  of guys are debating to help you buy penis extenders, as well as pros
  claimed that they show concern in order to those accessories, to illu
 strate, ProExtender, Quick Extender Pro, Phallosan Forte, SizeGenetics
 , Male Edge, Jes-Extender, PenisMaster, Hydromax, even more. Bills . t
 hey, proextender is probably among the best penis extenders providing 
 n acceptable overall results without setting off whatever ill effects.
  As you desire, wondering all those should visit as well as drop by th
 e best standard web site to uncover more regarding the penis extenders
  results. \n\nMainly because effective penis extender that really work
 s inside a impressive ways, and even gents who use this device are exp
 eriencing dependable penile in the future. The employment of the parti
 cular best penis stretchers is painless for nearly all a man. Gents ca
 n put on this product actually, a few fellas elect to utilize this app
 aratus in a single day. In accordance with public, persons every year 
 a superior happen immediately following using the extender with regard
 s to 1100 hours. It really is a real answer expand male enhancement si
 ze that most all men wish to go with. In addition, it erases Peyronieâ
 €™s disease and give much better construction and also contour. This d
 evice yields different cells inside willy in order to provide sudden i
 mprovement. Males should buy ProExtender and also other equipments ent
 irely from the designers, this type of gizmo is supplied in a variety 
 of locations that they must\n\n\n\nFor more information visit https://
 personalgrowthsystems.ning.com/events/importance-of-penis-extenders-re
 sults
DTSTART;TZID=America/Dawson_Creek:20220227T180000
DTEND;TZID=America/Dawson_Creek:20220917T190000
CATEGORIES:neyzara
LOCATION:United State
WEBSITE:
URL:
CONTACT:
ORGANIZER;CN=Droez:https://personalgrowthsystems.ning.com/profile/Droe
 z
ATTACH;FMTTYPE="image/jpeg":
ATTENDEE;ROLE=REQ-PARTICIPANT;PARTSTAT=ACCEPTED;RSVP=TRUE;CN=Droez:htt
 ps://personalgrowthsystems.ning.com/profile/Droez
END:VEVENT
END:VCALENDAR
