BEGIN:VCALENDAR
PRODID:NingEventWidget-v1
VERSION:2.0
METHOD:PUBLISH
BEGIN:VTIMEZONE
TZID:America/Dawson_Creek
X-LIC-LOCATION:America/Dawson_Creek
BEGIN:STANDARD
TZOFFSETFROM:-0700
TZOFFSETTO:-0700
TZNAME:MST
DTSTART:19700101T000000
END:STANDARD
END:VTIMEZONE
BEGIN:VEVENT
UID:6390774:Event:1052564
DTSTAMP:20260423T033235Z
SUMMARY:How You Can Use Nerve Health In Positive Manner?
DESCRIPTION:Have you been struggling by having great troubles sufferin
 g when you experience all forms of diabetes? When the option would be 
 without a doubt, you may have trouible with neuropathy. It happens to 
 be an intense injury in which people expertise pain, numb feeling, the
 n pain around the anxiety, and so it may make people young and old pai
 nful. In such quality, folks buy awful nerve health, and then the anxi
 ety from your scalp obtain inflamed, which means that these companies 
 adventure numbness also problems. As stated by the latest insider repo
 rt, sensation problems problem is amazingly common through todayâ€™s f
 renzied lifestyles since individualsâ€™ habits is actually pre occupie
 d, with the further put on an individual's imagination. A number of pe
 ople donâ€™t have plenty of opportunity to take the extra pounds major
  which will neural impair. This lack of feeling aches tends to create 
 a handful of intellect problems. A few industry professionals simultan
 eously mentioned that lack of feeling trouble will happen on account o
 f high blood pressure, accidental injuries, waste, and many more. A nu
 mber of individuals that should get free of could quite that can isnâ€
 ™t not difficult and some anxiousness given that they need some strong
  and some beneficial cure, wish nerve supplements.\n\nTheir nervous sy
 stem supplements usually are loaded with want because all those aspire
  to increase their neurological in a little while, coupled with food s
 upplements are probably the right options for all of them to mend our 
 nervous system. Along with nerve calming formulas, most people will im
 mediately get lower neuropathy and buying better letting go at a amoun
 t of time. Any nerve health support recipes will help visitors choose 
 a higher nights get some sleep and better psyche health and well being
 . There are a number nerve health supplements that may possibly have n
 ot just more attractive nerve health but as well as lots of undesirabl
 e side effects on the human frame, so that could be great if ever wome
 n and men utilize the best nerve supplements. Your best nerve suppleme
 nts 2021 are really Nerve Control 911, Nervala, Nerve Renew, Nerve Rej
 uv, Nervexol, Neuro Calm Pro, Nervogen Pro, plus more that can help to
  maximize nerve health typically. As you desire, planning to pursue in
 dividuals may very well check this or sometimes take a trip to this po
 liceman website to uncover more regarding best nerve supplements to bu
 y.\n\nAll of the best nerve supplements is often rather beneficial for
  most people simply because every one of them prescriptions are found 
 jam packed with some vitamin and mineral, enzymes, and even herbal ext
 racts. An ideal dealing with diabetes, which can be used any of those 
 top nerve health supplements to exterminate neuropathy without the nee
 d for outcomes. Such nerve calming formulas consist of natural list of
  ingredients, such as turmeric, l-arginine, alpha-lipoic acid, passion
 flower, plus more. You get incredible comfort and get to sleep at nigh
 ttime utilizing a few of these health supplements. A lot of these heal
 th can aid you to enhance human mind fitness in a productive way. The 
 main nerve supplements reviews provide help to clear away the each and
  every one uncertainties resourcefully. Stronger shall be to check thi
 s or alternatively surf to this useful actual can i learn about about 
 buy nerve supplements.\n\nFor more information visit https://personalg
 rowthsystems.ning.com/events/how-you-can-use-nerve-health-in-positive-
 manner
DTSTART;TZID=America/Dawson_Creek:20211109T180000
DTEND;TZID=America/Dawson_Creek:20220420T190000
CATEGORIES:nerve, supplements
LOCATION:usa
WEBSITE:
URL:
CONTACT:
ORGANIZER;CN=Hurny:https://personalgrowthsystems.ning.com/profile/Hurn
 y
ATTACH;FMTTYPE="image/jpeg":
ATTENDEE;ROLE=REQ-PARTICIPANT;PARTSTAT=ACCEPTED;RSVP=TRUE;CN=Hurny:htt
 ps://personalgrowthsystems.ning.com/profile/Hurny
END:VEVENT
END:VCALENDAR
