BEGIN:VCALENDAR
PRODID:NingEventWidget-v1
VERSION:2.0
METHOD:PUBLISH
BEGIN:VTIMEZONE
TZID:America/Dawson_Creek
X-LIC-LOCATION:America/Dawson_Creek
BEGIN:STANDARD
TZOFFSETFROM:-0700
TZOFFSETTO:-0700
TZNAME:MST
DTSTART:19700101T000000
END:STANDARD
END:VTIMEZONE
BEGIN:VEVENT
UID:6390774:Event:1142480
DTSTAMP:20260424T203239Z
SUMMARY:How To Make Best Possible Use Of Testosterone Boosters
DESCRIPTION:Do you feel far less energised or perhaps even having to d
 eal with immediate extra weight and even decrease all of your a little
  older point in time? In the event your reply is yes indeed, and after
  that testosterone is amongst the major reasons due to difficulties. A
 lmost every mans will responsibility ones own testosterone levels in t
 he more aged level to learn some extremes. Fairly for every one men's 
 to create a amazing loss of testosterone certifications in your mature
  level, and therefore the decreased testosterone manufacturing creates
  different modifications in our systems. For those who are experiencin
 g bottom testosterone, you should come across added bodyweight reducin
 g electrical energy. Besides you will suffer bad sexual desire on the 
 very old place. You will find several other problems possibly deal wit
 h caused by modest testosterone ranges, just like, impotence, not good
  body, joint problems, plus much more. It's suggested the fact that mu
 ch older adult men will need to look into some of those products which
  all have an opportunity to maximize testosterone heights.\nYou'll fin
 d so many mature who really don’t need to actually eat a great numbe
 r of food products and need to produce his / her sexual performance fu
 rther fascinating. Many of males are sharing favorite in order top tes
 tosterone boosters, and you must businesses can also be to utilize tes
 tosterone booster. Through certain testosterone pills, you can find yo
 urself a large number of wonderful benefits that will make you start t
 o feel healthier and stronger, as one example, more effectively energy
  levels, elevated sex, greater & long-lasting penile erection, even be
 tter your muscles, losing weight, plus more. It is merely entirely pos
 sible for anyone to acquire each one of many benefits if you utilize y
 our best testosterone booster, and they have has been observed that so
 me males are incapable of prefer a quality single. Correct best testos
 terone pills is really a daunting purpose of you, even so, you can cre
 ate this much less difficult simply by deliberating on lots of, apprec
 iate label acceptance, perks, side-effects, verifiable testimonies, an
 d superior. If necessary, curious folks can potentially click on this 
 link or maybe a pay a visit to your endorsed web site to uncover more 
 around the top testosterone supplements.\n Most of the best testo supp
 lements complement lots of key nutrients, substances, together with na
 tural ingredients that really help yourself to arrive at elevated test
 osterone levels much later. The top testosterone levels help you do th
 e job you can throughout the guest rooms. As much the main best testos
 terone supplements come to, i suggest you go for such formulas, for ex
 ample, TestoPrime, Testodren, Barbarian XL, Hunter Test, Testo-Max, Pr
 ime Male, Testo 911, JayLab Pro T20, Testogen, TestRX, TestoLab Pro T-
 Booster, and Testofuel. This type of top testosterone supplements make
  it simpler to be able to match your friends at the bed. You may not r
 eally feel irritated along with seeing the rooms help of the natural s
 upplements, and you will equally gain far better synovial health insur
 ance and mental faculties health basic formulation continually. People
  who had targets to be familiar with that best testo boosters and also
  of information can sound like absolve to head over to this web page.\
 n\nFor more information visit https://personalgrowthsystems.ning.com/e
 vents/how-to-make-best-possible-use-of-testosterone-boosters-1
DTSTART;TZID=America/Dawson_Creek:20220224T180000
DTEND;TZID=America/Dawson_Creek:20220224T190000
CATEGORIES:testosterone
LOCATION:panama
WEBSITE:
URL:
CONTACT:
ORGANIZER;CN=Charakad:https://personalgrowthsystems.ning.com/profile/C
 harakad
ATTACH;FMTTYPE="image/jpeg":
ATTENDEE;ROLE=REQ-PARTICIPANT;PARTSTAT=ACCEPTED;RSVP=TRUE;CN=Charakad:
 https://personalgrowthsystems.ning.com/profile/Charakad
END:VEVENT
END:VCALENDAR
