BEGIN:VCALENDAR
PRODID:NingEventWidget-v1
VERSION:2.0
METHOD:PUBLISH
BEGIN:VTIMEZONE
TZID:America/Dawson_Creek
X-LIC-LOCATION:America/Dawson_Creek
BEGIN:STANDARD
TZOFFSETFROM:-0700
TZOFFSETTO:-0700
TZNAME:MST
DTSTART:19700101T000000
END:STANDARD
END:VTIMEZONE
BEGIN:VEVENT
UID:6390774:Event:817728
DTSTAMP:20260420T003955Z
SUMMARY:Highly Critical Factors About Blaux Portable Ac Reviews
DESCRIPTION:Everbody knows, the time of year is not to become the favo
 urite time of year of the individuals since the majority of of people 
 are up against numerous obstacles this coming summer holiday, mainly b
 ecause of the warm of the planet. But nevertheless, many customers rec
 eive afflicted the wrong way because of the very warm sea breezes for 
 example , lack of fluids, sunstrokes, burning, skin rashes, and even s
 kin ailment, or anything else. Getting these problems, many individual
 s want to stay at home during this couple of years or always maintain 
 their selves with regard to nice areas. Although every individual won'
 t be right at home for a number of calendar months since the majority 
 of the people have got to journey with regards to do the trick, tests,
  and the majority of different considerations. As it is termed which o
 ften air conditioning units are since ideal root of the users who coul
 d certainly stay away from the fantastic effect of bad weather. Unfort
 unately, a number of different different varieties of air conditioners
  are located in the sector.\nBringing about this process, convenient, 
 windshield, through-the-wall, ductless, cut up, and others air conditi
 oning systems are presented in your market. Nevertheless, in these day
 s these requirement for the portable air conditioners is significantly
  over the rest. The reason is light and portable ACs is often stocked 
 together with carried picked up from one area to a different. Then aga
 in, from the lots of portable air conditioners, citizens can buy vario
 us kinds of tremendous little sun dress air conditioning having plan c
 apabilities. Nevertheless bills . options, Blaux chosen since a lot of
  awesome make or model since the device comes with a justifiable produ
 ct that carries specific operations versus the competition. That Blaux
  portable ac is mostly a smaller dresses ac that any of us can contain
  regardless of where they need without the need for struggling with tr
 oubles as the scale such ACs are very small, and are incredibly handy.
  Anytime, planning to pursue persons can visit operate site, which ena
 bles it to secure efficient info about a new Blaux AC scam.\nAs report
 ed by the Blaux update, currently offered around the Blaux portable ac
  review, a few designs belonging to the blaux Air conditioners have ta
 ken place of us, that is definitely motion own made a suitable mini de
 sktop air conditioner and a wearable air cooler. The two of these syst
 ems will be very used by individuals since you can get contemporary an
 d cool ticket on a trip, physical workouts, together with accomplishin
 g almost every do the trick. The elements among the environment chille
 rs vary utilizing their preparations, as the wearable ac is used throu
 ghout a person's fretboard where, with regard to laptop air conditione
 rs you should have along with any made available carry out at the top.
  To know for sure the usage, benefits, and in addition the distinction
  between a wearable coupled with portable air conditioners, individual
 s can visit the state run web pages. Considering that you desire a lot
  of readability with regards to Blaux solutions that it will be very t
 heraputic for most people or perhaps in that case , people require app
 le iphone 4 Blaux portable ac reviews that are delivered through the t
 he general public. You can get a great deal more details concerning Bl
 aux consumer review because of over that interconnection.\n\nFor more 
 information visit https://personalgrowthsystems.ning.com/events/highly
 -critical-factors-about-blaux-portable-ac-reviews
DTSTART;TZID=America/Dawson_Creek:20200930T180000
DTEND;TZID=America/Dawson_Creek:20210930T190000
CATEGORIES:blaux
LOCATION:US
WEBSITE:https://www.techtimes.com/articles/250693/20200629/blaux-porta
 ble-ac-consumer-review-on-blaux-air-conditioners.htm
URL:https://www.techtimes.com/articles/250693/20200629/blaux-portable-
 ac-consumer-review-on-blaux-air-conditioners.htm
CONTACT:7854525256
ORGANIZER;CN=Nysardkal:https://personalgrowthsystems.ning.com/profile/
 Nysardkal
ATTACH;FMTTYPE="image/jpeg":
ATTENDEE;ROLE=REQ-PARTICIPANT;PARTSTAT=ACCEPTED;RSVP=TRUE;CN=Nysardkal
 :https://personalgrowthsystems.ning.com/profile/Nysardkal
END:VEVENT
END:VCALENDAR
