BEGIN:VCALENDAR
PRODID:NingEventWidget-v1
VERSION:2.0
METHOD:PUBLISH
BEGIN:VTIMEZONE
TZID:America/Dawson_Creek
X-LIC-LOCATION:America/Dawson_Creek
BEGIN:STANDARD
TZOFFSETFROM:-0700
TZOFFSETTO:-0700
TZNAME:MST
DTSTART:19700101T000000
END:STANDARD
END:VTIMEZONE
BEGIN:VEVENT
UID:6390774:Event:976250
DTSTAMP:20260423T204125Z
SUMMARY:Gain Details About Keto Shark tank Pills
DESCRIPTION:In such a time, most people give preference to generate pr
 ofits rather then their health, but also will grant alike favorite whi
 ch will both the health insurance and bucks. Even better well-being wo
 uld be the main motive of their customers as a healthful figure can as
 sist with many perks to opportunity seekers. Remember that it is obser
 ved that a great deal of everyone aren’t prepared to help reduce the
 ir persistent fat from a great deal of work towards themselves. A lot 
 of us carry out assorted physical exercises as well as actually eat he
 althier things to eat to lose fat laden calories fully. You will find 
 heavy those who find themselves by means of keto applications to take 
 out accumulated unwanted fat, but some individuals don’t adequate to
  continue along with all of the keto weight loss plan, to make sure th
 ey choose unique diet supplements. Countless establishments on the int
 ernet are providing counterfeited remedies which might construct adver
 se reactions on the body and can problems one's body internally and ex
 ternally.\nShark summer is about the recognized tv shows popular with 
 a number of people, for anyone produces multiple products the fact tha
 t definitely make available results. By using shark tank keto pills, a
 nybody can efficiently limit the needless fat because tv program displ
 ays the perfect most desirable slimming pill. Just about every over we
 ight particular person wants to obtain the shark tank keto supplement 
 that is a totally natural and organic blueprint that includes the abil
 ity if you want to media the body within the ketosis state, with the r
 esult that the human body gets going reducing weight a lot quicker. Co
 nsumers experience a instant improvement of rate of metabolism as well
  as considerably improved energy thanks to the particular keto shark t
 ank pills. By simply typically choosing shark tank keto diet pills, he
 avy individuals have a thin out complete body in rapid sequence, addit
 ionally they get the superior gi tract by consuming most of these diet
  pills. If needed, eager persons could certainly check this or else pa
 y a visit to a lot of our established site discover regarding shark ta
 nk keto scam report.\nThere are firms that are selling replica shark t
 ank keto methods which has been unhealthy pertaining to health and wel
 lbeing. Many overweight everyone is puzzled by deciding to buy shark t
 ank keto pills credited fraudulence. It's a good idea that each indepe
 ndent shouldn’t anxious they usually will use a authorized site to a
 cquire the primary shark tank keto supplement. This approach complemen
 t works by using 100 % natural ingredients which will halt extra weigh
 t assembly also regulates drive efficiently and effectively. There are
  3 uncomfortable side effects of that capsule, and it's really produce
 d for both males and females. Everyone within the age of 18, little on
 e also breastfeeding a baby women of all ages will want to stay clear 
 of this approach dietary supplement. Quite a few testamonials are avai
 lable as well regarding keto shark tank for you to investigate before 
 you decide. Every comments are impressive and meet anyone. More desira
 ble could be to follow this link and look at this recognized internet 
 site to understand with regards to shark tank keto controversy.\n\nFor
  more information visit https://personalgrowthsystems.ning.com/events/
 gain-details-about-keto-shark-tank-pills
DTSTART;TZID=America/Dawson_Creek:20210624T180000
DTEND;TZID=America/Dawson_Creek:20211216T190000
CATEGORIES:shark, tank, keto
LOCATION:us
WEBSITE:https://www.courierherald.com/marketplace/shark-tank-keto-pill
 s-scam-truth-about-fake-keto-shark-tank-ads/
URL:https://www.courierherald.com/marketplace/shark-tank-keto-pills-sc
 am-truth-about-fake-keto-shark-tank-ads/
CONTACT:7854125896
ORGANIZER;CN=Laymskel:https://personalgrowthsystems.ning.com/profile/L
 aymskel
ATTACH;FMTTYPE="image/jpeg":
ATTENDEE;ROLE=REQ-PARTICIPANT;PARTSTAT=ACCEPTED;RSVP=TRUE;CN=Laymskel:
 https://personalgrowthsystems.ning.com/profile/Laymskel
END:VEVENT
END:VCALENDAR
