BEGIN:VCALENDAR
PRODID:NingEventWidget-v1
VERSION:2.0
METHOD:PUBLISH
BEGIN:VTIMEZONE
TZID:America/Dawson_Creek
X-LIC-LOCATION:America/Dawson_Creek
BEGIN:STANDARD
TZOFFSETFROM:-0700
TZOFFSETTO:-0700
TZNAME:MST
DTSTART:19700101T000000
END:STANDARD
END:VTIMEZONE
BEGIN:VEVENT
UID:6390774:Event:1055980
DTSTAMP:20260421T195858Z
SUMMARY:Finest Details About Acne Scar Treatment
DESCRIPTION:There are lots of individuals who are giving priority to t
 heir skin overall health merely because it is vital to have excellent 
 skin to seem young and wonderful. Almost every individual is trying a 
 lot of items on their face to improve the glow on their skin and remov
 e obstinate acne. On the epidermis, stubborn acne is the main reason b
 ehind the annoyance of quite a few people. Sometimes, folks experience
  various kinds of skin troubles after implementing many solutions on t
 heir epidermis. Many people also break the acne that brings to long la
 sting scars on the skin. As a result of scar problems, individuals fee
 l unsightly, and they apply lots of oils and creams to eliminate their
  acne scars. There are many folks who are finding a superb solution to
  eliminate acne scars, and they can attain a lot of acne scar removal 
 treatments that can give adequate results to everyone.\nThere are many
  kinds of remedies available in the health universe to eradicate acne 
 scars, for instance, radiofrequency microneedling, TCA Cross, fraction
 al CO2 laser, erbium YAG lasers, fractional radiofrequency treatments,
  and much more, although sometimes, folks get baffled to selecting one
  acne scar treatment. The proper acne scar treatment can give good eno
 ugh results in a while. According to a recent report, everyone’s ski
 n is diverse, and anyone requires different treatment to acquire radia
 nt skin. Whenever the thing arrives at acne scars, persons experience 
 many kinds of scars from acne, including icepick scars, rolling scars,
  boxed scars, and hypertrophic scars. Quite a few persons in Singapore
  are battling with these scars, plus they want far better treatment. O
 zhean Zoey is regarded one of the most reliable clinics that provide t
 he best solution to everyone. Far better is to click here or pay a vis
 it to our professional site to learn more about the acne scar treatmen
 t singapore.\nIndividuals can handily obtain the perfect acne scar tre
 atment from this specific clinic, and they remove acne scars in a shor
 t time. All the employees of this specific clinic are extremely experi
 enced, and they supply the absolute best services to every individual.
  The PICOMAX Laser Treatment Program of this clinic is the most benefi
 cial treatment for every person because it is an assortment of 3 power
 ful lasers that perform it's magic in a safe and secure manner. This e
 xcellent program incorporates three different lasers that have a vital
  role in increasing skin health, including, pro yellow laser, advanced
  nanolaser, and PICO laser. It supplies services at an exceptionally r
 easonable price to just about every person. One could take a look at t
 his incredible website to acquire complete information related to acne
  scar removal singapore.\n\nFor more information visit https://persona
 lgrowthsystems.ning.com/events/finest-details-about-acne-scar-treatmen
 t
DTSTART;TZID=America/Dawson_Creek:20211116T180000
DTEND;TZID=America/Dawson_Creek:20211116T190000
CATEGORIES:acne, scar, treatment
LOCATION:panama
WEBSITE:
URL:
CONTACT:
ORGANIZER;CN=Piahon:https://personalgrowthsystems.ning.com/profile/Pia
 hon
ATTACH;FMTTYPE="image/jpeg":
ATTENDEE;ROLE=REQ-PARTICIPANT;PARTSTAT=ACCEPTED;RSVP=TRUE;CN=Piahon:ht
 tps://personalgrowthsystems.ning.com/profile/Piahon
END:VEVENT
END:VCALENDAR
