BEGIN:VCALENDAR
PRODID:NingEventWidget-v1
VERSION:2.0
METHOD:PUBLISH
BEGIN:VTIMEZONE
TZID:America/Dawson_Creek
X-LIC-LOCATION:America/Dawson_Creek
BEGIN:STANDARD
TZOFFSETFROM:-0700
TZOFFSETTO:-0700
TZNAME:MST
DTSTART:19700101T000000
END:STANDARD
END:VTIMEZONE
BEGIN:VEVENT
UID:6390774:Event:1059102
DTSTAMP:20260425T132709Z
SUMMARY:Enormous Details Related To Healthy Coffee
DESCRIPTION:Today, a large number of everyone should enjoy even longer
 , plus some individuals are needing to increase their life time just b
 y boosting their diet solutions and even life-style. It may be quite d
 ifficult for a lot of because individuals may well thrive much more on
 ly once these people don’t have much health and wellbeing well known
  problems. There are plenty of misconceptions as well as truths that s
 earchers pursue to produce its life style more favourable. A handful o
 f remedies succeed and a few don’t, nevertheless the predominant ite
 m would be that nearly all human being takes advantage of all types fo
 r treat to help make his / her your life healthy. Determined by an int
 eresting history, coffee may make consumers genuinely feel well-balanc
 ed and will boost their life-time of folks. People who drink healthier
  coffee could get lessen a multitude of medical conditions soon. A hug
 e number of many people love to consume coffee in place of beverage co
 nsidering that coffee supplies several what are the benefits to just a
 bout each one. In the commercial, folks are able to see quite a few co
 ffee products making customers much more healthy.\nA number of provide
 rs what person market coffee products which were completed having a va
 riety of fake list of ingredients. According to internet websites tell
  of, a number of people flourish coffee by employing several not eco-f
 riendly pesticides plus synthetics which cause side effects figure. Ev
 ery single unique prefers normally raised coffee products, but some sc
 ammers are offering low quality coffee. A variety of coffee brands ava
 ilable for sale folks, as well as famous brands pledge to allow the be
 st coffee. You will find some those individuals that are interested ty
 pically the best healthy coffee products, therefore it isn’t more ef
 fortless permit purchase the best coffee enhancers inside of the well 
 being company. Most people remain to be aiming and then discovering th
 e world wide web coming in solutions, and then they evaluate a lot of 
 things, for instance critiques, worth, added advantages, things, and m
 ore often. When necessary, serious citizens can easily click here or e
 ven travel to the genuine website to learn for the best coffee additiv
 es.\nWith regards to a best healthy coffee boosters, just about each i
 ndependent can also add a great number of best healthy coffee suppleme
 nts for their daily schedule, as an example ,, Java Burn, Bulletproof,
  LifeBoost coffee, Moon Juice Brain Dust, Vital Proteins Collagen Pept
 ides, Cardiology coffee, Wakers Happy coffee, MUDWTR, Well Bean, Onda 
 Origins, Bean Box, Amora coffee, plus much more. These represent the b
 est coffee boosters which boost life time of men and women and still p
 rovide a healthier lifestyle. Everyday people drop accumulated bodywei
 ght, heart problems, mental faculties disorders, many other sorts of w
 ellbeing problems from a short while. These coffee drink enhancers hav
 e better whole body health without delivering all the secondary effect
 s while every one of these vitamin supplements usually are healthy. Ea
 ch one of these products are obtainable within a good expense. Healthi
 er will be to please click here or else pay a visit to our recognized 
 how does a person understand more on the reviews on healthy coffee bra
 nds.\n\nFor more information visit https://personalgrowthsystems.ning.
 com/events/enormous-details-related-to-healthy-coffee
DTSTART;TZID=America/Dawson_Creek:20211120T180000
DTEND;TZID=America/Dawson_Creek:20211120T190000
CATEGORIES:coffee
LOCATION:panama
WEBSITE:
URL:
CONTACT:
ORGANIZER;CN=Emturen:https://personalgrowthsystems.ning.com/profile/Em
 turen
ATTACH;FMTTYPE="image/jpeg":
ATTENDEE;ROLE=REQ-PARTICIPANT;PARTSTAT=ACCEPTED;RSVP=TRUE;CN=Emturen:h
 ttps://personalgrowthsystems.ning.com/profile/Emturen
END:VEVENT
END:VCALENDAR
