BEGIN:VCALENDAR
PRODID:NingEventWidget-v1
VERSION:2.0
METHOD:PUBLISH
BEGIN:VTIMEZONE
TZID:America/Dawson_Creek
X-LIC-LOCATION:America/Dawson_Creek
BEGIN:STANDARD
TZOFFSETFROM:-0700
TZOFFSETTO:-0700
TZNAME:MST
DTSTART:19700101T000000
END:STANDARD
END:VTIMEZONE
BEGIN:VEVENT
UID:6390774:Event:1030701
DTSTAMP:20260421T101325Z
SUMMARY:Change Your Fortunes With Top Nerve Health Supplements
DESCRIPTION:Diabetics facial area plenty of complaints with their life
 time, along with a few about the complaints are very genuine. As repor
 ted by look for, bottom insulin production will likely be the # 1 reas
 on for high a few of the, with the result that our bodies experience q
 uite a few lifestyle changes. Neuropathy merely disorder that happens 
 on account of type two diabetes. These have neuropathy whilst his nerv
 es will be harmed. For this state, users have repeated agony during th
 eir nerves and so suffer a loss of his or her's mental performance ran
 dom access memory. Looking at their home who neuropathy provides a cou
 ple of issues on the human body, as an illustration, less storage area
 , along attention, sometimes more. There are employees who else declar
 ed those people end up getting irritability within their nerves, due t
 o which folks end up with aches and also of complaints. Most people ca
 n certainly effectively get better nerve health by making use of nerve
  supplements. Popular bands are using varieties of nerve health supple
 ments to improve an individual's nerve health. That is a will be conta
 ining lots of solutions, however , visitors should really check out th
 e list of ingredients first and foremost.\nFormula for this vitamin su
 pplements play an important role simply because the natural supplement
 s certainly are mix of assorted constituents. If for example the optim
 um active ingredients will most certainly be included in the nervous s
 ystem supplements, people acquire end results, and thus very poor cont
 ents result in less than ideal effects. There are lots of chemical sub
 stance and therefore stimulating elements are typically added in a lar
 ge number of wellness supplements able to convey a limiting influence 
 the bodies cells, for that reason list of ingredients are necessary to
  check for everybody. People today also has to determine a number of c
 ustomer reviews such as stories will help the property to become relie
 ved and opt for the right one. Folks would prefer far better nerve hea
 lth support will want to work with the best nerve supplements 2021, by
  way of example, Nerve Control 911, Nervala, Nerve Renew, Nerve Rejuv,
  Nervexol, Circle Labs CBD, Neuro Calm Pro, Nervogen Pro, and many oth
 ers. As needed, serious everyone can possibly please click here or per
 haps a go to see some of our authorized site find out more with regard
 s to the top nerve health supplements.\nThese best nerve supplements m
 ake it possible to debt owed all of the controlled and get well that n
 erves in the chemistry of the brain. Citizens can use a majority of th
 ese nerve calming formulas to eliminate neuropathy because of raising 
 insulin production after a few years. Through the use of a majority of
  these treatments, most people will usually get a comfortable memory s
 pace, really improved levels, much better go health related. These kin
 d of food supplements limit pain and inflammation quickly being the fo
 rmulation of the supplements are actually a mixture of nutrition, subs
 tances, and then herbal extracts, along the lines of Acetyl-L-carnitin
 e, Vitamin B6/B12, ALA, Magnesium, Glutamine, and much more. These ele
 ments are typically clinically approved and provide you appropriate ge
 nerates a amount of time. People today are able to get gone pins and n
 eedles, numbness, and therefore tenderness by simply sipping one of th
 ese diet supplements. These types of products is the best nerve supple
 ments to buy for your separate. Those that have expectation comprehend
  that nerve supplement reviews and various tips thinks liberal to see 
 this web site.\n\nFor more information visit https://personalgrowthsys
 tems.ning.com/events/change-your-fortunes-with-top-nerve-health-supple
 ments
DTSTART;TZID=America/Dawson_Creek:20210921T180000
DTEND;TZID=America/Dawson_Creek:20210921T190000
CATEGORIES:nerve, health
LOCATION:panama
WEBSITE:
URL:
CONTACT:
ORGANIZER;CN=Throundkal:https://personalgrowthsystems.ning.com/profile
 /Throundkal
ATTACH;FMTTYPE="image/jpeg":
ATTENDEE;ROLE=REQ-PARTICIPANT;PARTSTAT=ACCEPTED;RSVP=TRUE;CN=Throundka
 l:https://personalgrowthsystems.ning.com/profile/Throundkal
END:VEVENT
END:VCALENDAR
