BEGIN:VCALENDAR
PRODID:NingEventWidget-v1
VERSION:2.0
METHOD:PUBLISH
BEGIN:VTIMEZONE
TZID:America/Dawson_Creek
X-LIC-LOCATION:America/Dawson_Creek
BEGIN:STANDARD
TZOFFSETFROM:-0700
TZOFFSETTO:-0700
TZNAME:MST
DTSTART:19700101T000000
END:STANDARD
END:VTIMEZONE
BEGIN:VEVENT
UID:6390774:Event:1053235
DTSTAMP:20260423T210954Z
SUMMARY:Black Satta Kings Desawar, Satta King Bazar
DESCRIPTION:Satta king There are many types of people play depending o
 n there location and timing Desawar satta, gali satta, Faridabad satta
 , Ghaziabad satta, Lal Killa, delhi darbar and results of this games a
 re given on deferent times.Daily Superfast Satta King Result of Novemb
 er https://www.sattakingchart.club/ And Leak Numbers for Gali, Desawar
 , Ghaziabad and Faridabad With Complete Satta King Chart And Satta Kin
 g  Chart From Satta King Fast, Satta King Fast Result, Satta King Des
 awar , Satta King Desawar .\n\nFor more information visit https://pers
 onalgrowthsystems.ning.com/events/black-satta-kings-desawar-satta-king
 -bazar
DTSTART;TZID=America/Dawson_Creek:20211110T180000
DTEND;TZID=America/Dawson_Creek:20211110T190000
CATEGORIES:game
LOCATION:Faridabad
WEBSITE:https://www.sattakingchart.club
URL:https://www.sattakingchart.club
CONTACT:
ORGANIZER;CN=Akhilalanka:https://personalgrowthsystems.ning.com/profil
 e/Akhilalanka
ATTACH;FMTTYPE="image/jpeg":
ATTENDEE;ROLE=REQ-PARTICIPANT;PARTSTAT=ACCEPTED;RSVP=TRUE;CN=Akhilalan
 ka:https://personalgrowthsystems.ning.com/profile/Akhilalanka
END:VEVENT
END:VCALENDAR
