BEGIN:VCALENDAR
PRODID:NingEventWidget-v1
VERSION:2.0
METHOD:PUBLISH
BEGIN:VTIMEZONE
TZID:America/Dawson_Creek
X-LIC-LOCATION:America/Dawson_Creek
BEGIN:STANDARD
TZOFFSETFROM:-0700
TZOFFSETTO:-0700
TZNAME:MST
DTSTART:19700101T000000
END:STANDARD
END:VTIMEZONE
BEGIN:VEVENT
UID:6390774:Event:1267385
DTSTAMP:20260424T124119Z
SUMMARY:Best mogelijke details gedeeld over Testosteron Enanthaat
DESCRIPTION:Beginnende bodybuilders die hun trainingen snel willen ver
 beteren en sneller spieren willen kweken, moeten testosteron enanthaat
  combineren met andere legale steroïden zoals Clenbeutrol, T3 ANAVAR 
 of zelfs peptiden zoals hGH Fragment IPAMORELIN YK-11 in een Test e ko
 pen enanthaat cyclus. Voor optimale resultaten combineert u het met a
 ndere legale stoffen zoals Clenbeutrol T3 ANAVAR Clenbutrol Clobeutrol
  T3 Anavar en andere legale verbindingen zoals Clenbeutrol T3 Anavar e
 tc.\n\nTestosteron is een van de krachtigste anabole hormonen die door
  uw lichaam worden geproduceerd. Professionele bodybuilders gebruiken 
 vaak synthetische versies ervan om hun prestatieniveau te verhogen en 
 hun plekken in competitieve evenementen veilig te stellen.\n\n1. Testo
 steron Enanthaat Dosering\n\nOngeacht of u testosteron enanthaat gebru
 ikt voor therapeutische of prestatieverbeterende doeleinden, de doseri
 ng is afhankelijk van uw symptomen, doelen en verwachtingen. Overleg m
 et uw zorgverlener is essentieel om een ​​geschikte initiële dose
 ring te bepalen om de gewenste resultaten te behalen en deze tijdens d
 e behandeling aan te passen. Uw zorgverlener zal ook rekening houden m
 et de individuele reactie op het medicijn en de dosering indien nodig 
 aanpassen tijdens de behandeling.\n\nTestosteron Enanthaat is een synt
 hetische versie van het natuurlijke geslachtshormoon testosteron, toeg
 ediend via een medicijn met langzame afgifte dat langzaam in de bloedb
 aan terechtkomt en in uw lichaam wordt omgezet in mannelijke hormonen.
  Wanneer het wordt ingenomen, bindt het zich aan androgeenreceptoren o
 m de groei van zowel spier- als botweefsel te stimuleren. Ga naar deze
  site om Testosteron Enanthaat online te kopen.\n\nTestosteron Enantha
 at kan een hoog calciumgehalte in uw bloed veroorzaken (hypercalciëmi
 e). Uw arts moet regelmatige bloedtesten voorschrijven om dit medicijn
  te controleren terwijl u het gebruikt; regelmatige controle kan een v
 ertraagde puberteit bij adolescenten voorkomen en het risico op een ve
 rgrote prostaat bij mannen vergroten; als dit gebeurt, kan uw arts voo
 rstellen om de dosis te verlagen of andere behandelingsopties te overw
 egen om een ​​vergrote prostaataandoening te behandelen.\n\n2. Tes
 tosteron Enanthaat Cyclus Lengte\n\nEen injectiecyclus met Testosteron
  Enanthaat is een populaire optie onder bodybuilders die spiermassa wi
 llen opbouwen en hun kracht willen vergroten. Een cyclus houdt vaak in
  dat je elke week test e injecteert, waarbij je dosering afhangt van j
 e doelen - voor beginners kan dit betekenen dat je begint met 250 mg p
 er week, terwijl ervaren gebruikers kunnen overwegen om de wekelijkse 
 injecties te verhogen tot 500 mg.\n\nHet gebruik van steroïden kan ee
 n essentieel hulpmiddel zijn bij het verbeteren van je fysiek, maar mi
 sbruik kan gevaarlijk zijn als je het niet voorzichtig aanpakt. Neem P
 ost-Cycle Therapy na elke cyclus om te voorkomen dat de hormoonspiegel
 s onverwachts dalen; zorg voor een solide weerstandstrainingsprogramma
 ; en eet gezond met essentiële vitamines voor groei.\n\n\n\nFor more 
 information visit https://personalgrowthsystems.ning.com/events/best-m
 ogelijke-details-gedeeld-over-testosteron-enanthaat
DTSTART;TZID=America/Dawson_Creek:20250313T180000
DTEND;TZID=America/Dawson_Creek:20250718T190000
CATEGORIES:tren, kopen
LOCATION:Netherlands
WEBSITE:https://www.stacker-pro.com/product-page/testosterone-enanthat
 e
URL:https://www.stacker-pro.com/product-page/testosterone-enanthate
CONTACT:
ORGANIZER;CN="Sleegem Sleegem":https://personalgrowthsystems.ning.com/
 profile/SleegemSleegem
ATTACH;FMTTYPE="image/jpeg":https://storage.ning.com/topology/rest/1.0
 /file/get/13517416257?profile=original
ATTENDEE;ROLE=REQ-PARTICIPANT;PARTSTAT=ACCEPTED;RSVP=TRUE;CN="Sleegem 
 Sleegem":https://personalgrowthsystems.ning.com/profile/SleegemSleegem
END:VEVENT
END:VCALENDAR
