BEGIN:VCALENDAR
PRODID:NingEventWidget-v1
VERSION:2.0
METHOD:PUBLISH
BEGIN:VTIMEZONE
TZID:America/Dawson_Creek
X-LIC-LOCATION:America/Dawson_Creek
BEGIN:STANDARD
TZOFFSETFROM:-0700
TZOFFSETTO:-0700
TZNAME:MST
DTSTART:19700101T000000
END:STANDARD
END:VTIMEZONE
BEGIN:VEVENT
UID:6390774:Event:1109931
DTSTAMP:20260424T174605Z
SUMMARY:Best Keto Cookbook – Have Your Covered All The Aspects
DESCRIPTION:Lately, you'll find body's no stranger to the actual keto 
 person's name given that the ketogenic eating routine or perhaps the k
 eto diet results sizeable popularity on the wellbeing society. Folks w
 ho are thinking about to live a life a healthier life and receiving ri
 d of excess fat give preference to the actual keto diet. No person can
  think to get rid of fat or else be given a much better everyday livin
 g minus the keto diet because keto diet sets a huge effect figure with
 in reliable mode. By making usage of the very keto diet, women and men
  become elevated level of energy reduce prospects of heart disease as 
 well as other concerns. There are a number individuals that stuck to t
 he basic keto diet to live healthy and fit, several people prefer to c
 ontinue with the keto diet however forget to remain follow. A number o
 f people don’t are familiar with the right way to create your keto d
 iet in his or her buildings, with the result that they begin to don’
 t get the very finest good results upon while using the keto diet.\nAl
 though it vital for people find out the keto diet recipes prior to pre
 paring in the home considering that the best dishes makes it simpler f
 or everyone are generally harness the exact keto diet. A lot of people
  reckon that this is usually a really hard assignment to get the very 
 keto diet properly that’s valid considering better-prepared foods pr
 oduces more desirable effects. You'll find people begin to master the 
 keto diet recipes out of your online world, but some everyday people w
 ould rather shop for a keto diet cookbook. Humans have a lot of source
 s of typically the keto cookbooks inside physical condition community,
  plus they're investing in some keto cookbooks to receive total info o
 n that keto diet recipes. A few keto cookbooks have a unique mealtime 
 cooking group, and some consist of every one sorts of your keto recipe
 s. At will, serious citizens can easily go here or maybe have a look a
 t a lot of our proper site to discover concerning the best ketogenic d
 iet cookbooks.\nMany hundreds of sufferers are significantly obese so 
 are pondering which you can follow these keto diet while the keto diet
  is actually useful to minimize excess body fat. Among all the opportu
 nity involving ketogenic cookbooks, keto smart, 30 day carnivore diet 
 challenge, custom keto diet, paleohacks keto breakfast, keto after 50,
  konscious keto meal plan, the keto breakfast cookbook, keto after 50 
 desserts, healthful pursuit keto beginning, easy keto, speed keto, aut
 hentic keto diet, rapid keto system, keto shortcut system, keto liver 
 detox, and keto resource are some of the best cookbooks for keto diet.
  All these recipe books come with a few best ketogenic diet meal plan 
 recipes that others are able to adopt effectively and efficiently. Som
 eone can chose the above-mentioned guides at a extremely price level. 
 Especially those with expectations to know about this best cookbooks f
 or keto and various points sound liberated to go to this page.\n\nFor 
 more information visit https://personalgrowthsystems.ning.com/events/b
 est-keto-cookbook-have-your-covered-all-the-aspects
DTSTART;TZID=America/Dawson_Creek:20220106T180000
DTEND;TZID=America/Dawson_Creek:20220106T190000
CATEGORIES:keto
LOCATION:panama
WEBSITE:
URL:
CONTACT:
ORGANIZER;CN=Toturess:https://personalgrowthsystems.ning.com/profile/T
 oturess10
ATTACH;FMTTYPE="image/jpeg":
ATTENDEE;ROLE=REQ-PARTICIPANT;PARTSTAT=ACCEPTED;RSVP=TRUE;CN=Toturess:
 https://personalgrowthsystems.ning.com/profile/Toturess10
END:VEVENT
END:VCALENDAR
