BEGIN:VCALENDAR
PRODID:NingEventWidget-v1
VERSION:2.0
METHOD:PUBLISH
BEGIN:VTIMEZONE
TZID:America/Dawson_Creek
X-LIC-LOCATION:America/Dawson_Creek
BEGIN:STANDARD
TZOFFSETFROM:-0700
TZOFFSETTO:-0700
TZNAME:MST
DTSTART:19700101T000000
END:STANDARD
END:VTIMEZONE
BEGIN:VEVENT
UID:6390774:Event:1125325
DTSTAMP:20260423T132021Z
SUMMARY:All Aspects About Joint Supplement
DESCRIPTION:Many people are feeling intense pain in a variety of parts
  of the body because of their occupied programs just lately. A lot of 
 folks get each year pain within their parts of the body immediately fo
 llowing utilized in their specific agencies, now severe pain is actual
 ly normal for varied old-aged consumers. Experts agree it is observed 
 that joints grab low and thus don't work productively within adulthood
 , and so old-aged buyers skin difficulty found in running and other ve
 ntures. There's so many people who have unhealthy joint health guide 
  , and consequently are likewise going through edema as well as pain i
 n a variety of areas of the body. Individuals enter into their valuabl
 e older country want superior joints given that they would you like to
  implement each of the exercises without the benefit of road blocks. T
 o reduce joint pain, a key matter is truly pain killers that a lot of 
 men or women operate, along with a few all those additionally apply cr
 eams over their joints to enrich convenience. Other people are general
 ly difficult joint supplements instead of just pain murderers when a j
 oint supplement is filled with loads of competent components.\nThere a
 re individuals implementing joint health supplements merely make impro
 vements to joint health, nonetheless many people are turning out to be
  frustrated by making use of some supplements for joint pain attributa
 ble to unhealthy outcomes. A poor poor joints don’t desire to use a 
 supplement that includes homeless elements just because man-made ingre
 dients elements caused a quantity of side-effects. Just about any man 
 or woman likes to get the best joint supplement while in the overall h
 ealth market place, and others have numerous other choices to do with 
 health supplement for joints, however , as well as the an example may 
 be as a rule confusable for the people. Many of us have a lot of healt
 h concerns and unwilling to work with countless remedies on the market
 , and choose the ideal joint supplements for diabetics. The medical ma
 rket place features several traditional treatments that may don’t ca
 use harm to folks a result of healthful substances. At the moment, cur
 ious everyday people is able to take a look through and even travel to
  a lot of our policeman internet site to realize at the joint suppleme
 nts for women.\nBills . your choices having to do with full of natural
  goodness food supplements, Joint 33X, Pure Health Research Joint Supp
 ort, PhytAge Labs Joint Relief 911, Zenith Labs Joint N11, Pro Joint P
 lus, 1Move MD, Nuzena Joint Support, Thrive Health Labs Joint Guard 36
 0, Onnit Joint Oil, Upwellness Golden Revive, Zenith Labs Longevity Ac
 tivator, Cymbiotika Ultimate Pain Balm, and CBD Pure Infused Cream are
  a number of the particular best joint supplements of which someone ha
 ve to go with if you want to remove joint pain within minutes. A best 
 joint health supplements strengthen range of motion and also more adva
 ntageous benefit without creating negative effects. The particular abo
 ve-mentioned best joint pain relief products comprise 100 % natural in
 gredients this purpose quicker to remove pain coupled with edema. They
  nutritional supplements are offered with just one fair price. Someone
  else can ask advice of this web site to have complete elements relati
 ng to the best joint pain supplements.\n\nFor more information visit h
 ttp://personalgrowthsystems.ning.com/events/all-aspects-about-joint-su
 pplement
DTSTART;TZID=America/Dawson_Creek:20220205T180000
DTEND;TZID=America/Dawson_Creek:20221216T190000
CATEGORIES:joint, health, guide
LOCATION:usa
WEBSITE:
URL:
CONTACT:
ORGANIZER;CN=Rhoyertor:http://personalgrowthsystems.ning.com/profile/R
 hoyertor
ATTACH;FMTTYPE="image/jpeg":
ATTENDEE;ROLE=REQ-PARTICIPANT;PARTSTAT=ACCEPTED;RSVP=TRUE;CN=Rhoyertor
 :http://personalgrowthsystems.ning.com/profile/Rhoyertor
END:VEVENT
END:VCALENDAR
